BEGIN:VCALENDAR
VERSION:2.0
PRODID:-//Adamstown Uniting Church - ECPv5.3.2.1//NONSGML v1.0//EN
CALSCALE:GREGORIAN
METHOD:PUBLISH
X-WR-CALNAME:Adamstown Uniting Church
X-ORIGINAL-URL:https://adamstownuca.org.au
X-WR-CALDESC:Events for Adamstown Uniting Church
BEGIN:VTIMEZONE
TZID:Australia/Sydney
BEGIN:STANDARD
TZOFFSETFROM:+1100
TZOFFSETTO:+1000
TZNAME:AEST
DTSTART:20210403T160000
END:STANDARD
BEGIN:DAYLIGHT
TZOFFSETFROM:+1000
TZOFFSETTO:+1100
TZNAME:AEDT
DTSTART:20211002T160000
END:DAYLIGHT
END:VTIMEZONE
BEGIN:VEVENT
DTSTART;TZID=Australia/Sydney:20210318T180000
DTEND;TZID=Australia/Sydney:20210318T190000
DTSTAMP:20210227T020354
CREATED:20210215T010816Z
LAST-MODIFIED:20210215T015120Z
UID:5170-1616090400-1616094000@adamstownuca.org.au
SUMMARY:Newcastle Fringe Event – Victor Martinez Parada with Lily Guerrero
DESCRIPTION:Don’t miss two legends of Latin together for Newcastle Fringe! \nThursday 18 March 2021 6pm – 7pm.\nAdamstown Uniting Church Auditorium.\nBook tickets online at Sticky Tickets. \nVictor Martinez Parada is recognised as one of the world’s finest classical Latin-American avant-garde guitarists. From Santiago\, Chile\, the accomplished performer and composer has an extensive list of music in his repertoire\, ranging from classical and South American folk to avant-garde. By listening to his fantasies on pop tunes such as Stevie Wonder’s ‘You Are The Sunshine Of My Life’\, Daniel Alomia Roble’s ‘El Condor Pasa’\, Laura Branigan’s ‘Self-Control’ and Harold Arlen’s ‘Somewhere Over The Rainbow’ you will understand not only how music has shaped him but also how he has shaped music. He is a musician’s musician who plays from the heart. ‘The Chilean Hendrix’ – Syke On Stage. \nLilian Guerrero\, a versatile singer and songwriter in the vibrant Sydney Latin music scene\, plays cajon\, guitar and charango. Formerly with the Award-winning Show Band Salsa Kingz\, now a soloist\, Lily brings her folkloric touch to a range of cover material and original compositions. ‘My passion is for the culture and life of the song.’
URL:https://adamstownuca.org.au/event/victor-martinez-parada-with-lily-guerrero/
LOCATION:Adamstown Uniting Church – Church Auditorium\, 228 Brunker Rd\, Adamstown\, NSW\, 2289\, Australia
CATEGORIES:Music
ATTACH;FMTTYPE=image/jpeg:https://adamstownuca.org.au/wp-content/uploads/2021/02/Victor_Lily.jpg
ORGANIZER;CN="Newcastle%20Fringe":MAILTO:newcastlefringe@gmail.com
END:VEVENT
END:VCALENDAR