BEGIN:VCALENDAR
VERSION:2.0
PRODID:-//Adamstown Uniting Church - ECPv5.3.2.1//NONSGML v1.0//EN
CALSCALE:GREGORIAN
METHOD:PUBLISH
X-WR-CALNAME:Adamstown Uniting Church
X-ORIGINAL-URL:https://adamstownuca.org.au
X-WR-CALDESC:Events for Adamstown Uniting Church
BEGIN:VTIMEZONE
TZID:Australia/Sydney
BEGIN:STANDARD
TZOFFSETFROM:+1100
TZOFFSETTO:+1000
TZNAME:AEST
DTSTART:20210403T160000
END:STANDARD
BEGIN:DAYLIGHT
TZOFFSETFROM:+1000
TZOFFSETTO:+1100
TZNAME:AEDT
DTSTART:20211002T160000
END:DAYLIGHT
END:VTIMEZONE
BEGIN:VEVENT
DTSTART;TZID=Australia/Sydney:20210318T193000
DTEND;TZID=Australia/Sydney:20210318T200000
DTSTAMP:20210227T021447
CREATED:20210215T011910Z
LAST-MODIFIED:20210215T032131Z
UID:5176-1616095800-1616097600@adamstownuca.org.au
SUMMARY:Newcastle Fringe Event – Hunter Wind Quintet
DESCRIPTION:Hear the classic\, the dreamy and the boisterous at the Newcastle Fringe Festival\, 2021! The first of two performances as part of Fringe 2021. \nThursday 18 March 2021 at 7.30pm.\nAdamstown Uniting Church Memorial Hall.\nBook tickets online at Sticky Tickets. \nWhat is a wind quintet? \nFlute + oboe + clarinet + bassoon + the mellow tones of the French horn. A wind quintet is both curious and elegant. In the hands of classical composers\, the instruments of the quintet alternately sing to or accompany each other\, while in modern works\, the instruments challenge each other’s virtuosity. \nThe Hunter Wind Quintet is a group of local musicians with a wide range of national and international professional experience\, ranging from symphony orchestras to small ensembles\, from classical contemporary through jazz and electric. Together they form a unique ensemble that exploits the colourful and rich blend of woodwind instruments with French horn. Virtuosic riffs showcase melodies and harmonies of composers from across the ages.
URL:https://adamstownuca.org.au/event/newcastle-fringe-event-hunter-wind-quintet/
LOCATION:Adamstown Uniting Church – Memorial Hall\, 228 Brunker Rd\, Adamstown\, NSW\, 2298\, Australia
CATEGORIES:Music
ATTACH;FMTTYPE=image/jpeg:https://adamstownuca.org.au/wp-content/uploads/2021/02/Hunter-Wind-web.jpg
ORGANIZER;CN="Newcastle%20Fringe":MAILTO:newcastlefringe@gmail.com
END:VEVENT
END:VCALENDAR