BEGIN:VCALENDAR
VERSION:2.0
PRODID:-//Adamstown Uniting Church - ECPv5.3.2.1//NONSGML v1.0//EN
CALSCALE:GREGORIAN
METHOD:PUBLISH
X-WR-CALNAME:Adamstown Uniting Church
X-ORIGINAL-URL:https://adamstownuca.org.au
X-WR-CALDESC:Events for Adamstown Uniting Church
BEGIN:VTIMEZONE
TZID:Australia/Sydney
BEGIN:STANDARD
TZOFFSETFROM:+1100
TZOFFSETTO:+1000
TZNAME:AEST
DTSTART:20200404T160000
END:STANDARD
BEGIN:DAYLIGHT
TZOFFSETFROM:+1000
TZOFFSETTO:+1100
TZNAME:AEDT
DTSTART:20201003T160000
END:DAYLIGHT
END:VTIMEZONE
BEGIN:VEVENT
DTSTART;TZID=Australia/Sydney:20201115T193000
DTEND;TZID=Australia/Sydney:20201115T193000
DTSTAMP:20210227T023537
CREATED:20200311T003947Z
LAST-MODIFIED:20201021T044710Z
UID:4689-1605468600-1605468600@adamstownuca.org.au
SUMMARY:A Restoration Messiah – Online Concert Event
DESCRIPTION:A special fundraising online concert event on Sunday 15 November 7.30pm – launching the restoration & conservation of the exterior of the 1924 Adamstown Uniting Church.\n\nBook now at trybooking.com/BLXJY View online concert by donation $5 – $25. \n\n\nPerformers\nSoprano: Jennifer Barnes\nAlto: Rosemary Saunders\nTenor: Sam Elmi\nBass: Christopher Allan\nPipe organ: Peter Guy\nPipe organ: Heather Wingate\nReader: Rev Dr Rod Pattenden \nFOR MORE INFO: PH (02) 4961 5955 or M 0419 849 315 or email info@adamstownuca.org.au \n\nThe Adamstown Uniting Church Building Restoration\n\n\n  \nThe Adamstown Uniting Church Restoration and Conservation Fund will ensure that this suburban icon can be celebrated in style for its 100th birthday in 2024. \nHelp fund the redesigned guttering\, repointed brickwork and painting that will ensure the building’s appearance and integrity for years to come. Please be aware that all funds raised can only be used on the restoration work. \nAdamstown Uniting Church is an ACNC registered charity but is not eligible to offer tax deductions for donations. \n 
URL:https://adamstownuca.org.au/event/a-restoration-messiah/
LOCATION:Adamstown Uniting Church – Church Auditorium\, 228 Brunker Rd\, Adamstown\, NSW\, 2289\, Australia
CATEGORIES:Music
ATTACH;FMTTYPE=image/jpeg:https://adamstownuca.org.au/wp-content/uploads/2020/03/AA_Restoration_Messiah_onlineconcert_poster_web.jpg
ORGANIZER;CN="Adamstown%20Arts":MAILTO:info@adamstownuca.org.au
END:VEVENT
END:VCALENDAR